BEGIN:VCALENDAR
VERSION:2.0
PRODID:-//SRO SSRO - ECPv4.9.4//NONSGML v1.0//EN
CALSCALE:GREGORIAN
METHOD:PUBLISH
X-WR-CALNAME:SRO SSRO
X-ORIGINAL-URL:https://www.sro-ssro.ch
X-WR-CALDESC:Events for SRO SSRO
BEGIN:VTIMEZONE
TZID:"Europe/Zurich"
BEGIN:DAYLIGHT
TZOFFSETFROM:+0100
TZOFFSETTO:+0200
TZNAME:CEST
DTSTART:20260329T010000
END:DAYLIGHT
BEGIN:STANDARD
TZOFFSETFROM:+0200
TZOFFSETTO:+0100
TZNAME:CET
DTSTART:20261025T010000
END:STANDARD
BEGIN:DAYLIGHT
TZOFFSETFROM:+0100
TZOFFSETTO:+0200
TZNAME:CEST
DTSTART:20270328T010000
END:DAYLIGHT
BEGIN:STANDARD
TZOFFSETFROM:+0200
TZOFFSETTO:+0100
TZNAME:CET
DTSTART:20271031T010000
END:STANDARD
END:VTIMEZONE
BEGIN:VEVENT
DTSTART;TZID="Europe/Zurich":20260423T150000
DTEND;TZID="Europe/Zurich":20260424T160000
DTSTAMP:20260421T102025
CREATED:20260224T142207Z
LAST-MODIFIED:20260224T142207Z
UID:12190-1776956400-1777046400@www.sro-ssro.ch
SUMMARY:Neuro-Oncology Meeting 2026
DESCRIPTION:
URL:https://www.sro-ssro.ch/event/neuro-oncology-meeting-2026/
END:VEVENT
BEGIN:VEVENT
DTSTART;TZID="Europe/Zurich":20260428T140000
DTEND;TZID="Europe/Zurich":20260429T173000
DTSTAMP:20260421T102025
CREATED:20260129T182036Z
LAST-MODIFIED:20260129T182036Z
UID:12151-1777384800-1777483800@www.sro-ssro.ch
SUMMARY:International Prostate Cancer Symposium 2026 (IPCS 2026)
DESCRIPTION:
URL:https://www.sro-ssro.ch/event/international-prostate-cancer-symposium-2026-ipcs-2026/
END:VEVENT
BEGIN:VEVENT
DTSTART;TZID="Europe/Zurich":20260430T090000
DTEND;TZID="Europe/Zurich":20260502T123000
DTSTAMP:20260421T102025
CREATED:20251103T162024Z
LAST-MODIFIED:20251103T162024Z
UID:12018-1777539600-1777725000@www.sro-ssro.ch
SUMMARY:Advanced Prostate Cancer Consensus Conference 2026 (APCCC 2026)
DESCRIPTION:
URL:https://www.sro-ssro.ch/event/advanced-prostate-cancer-consensus-conference-2026-apccc-2026/
END:VEVENT
BEGIN:VEVENT
DTSTART;TZID="Europe/Zurich":20260508T130000
DTEND;TZID="Europe/Zurich":20260508T163000
DTSTAMP:20260421T102025
CREATED:20260226T082031Z
LAST-MODIFIED:20260226T082031Z
UID:12191-1778245200-1778257800@www.sro-ssro.ch
SUMMARY:SWISS-SPARE
DESCRIPTION:
URL:https://www.sro-ssro.ch/event/swiss-spare/
END:VEVENT
BEGIN:VEVENT
DTSTART;TZID="Europe/Zurich":20260521T090000
DTEND;TZID="Europe/Zurich":20260521T164500
DTSTAMP:20260421T102025
CREATED:20260201T172034Z
LAST-MODIFIED:20260201T172034Z
UID:12154-1779354000-1779381900@www.sro-ssro.ch
SUMMARY:Senologie Update 2026
DESCRIPTION:
URL:https://www.sro-ssro.ch/event/senologie-update-2026/
END:VEVENT
BEGIN:VEVENT
DTSTART;TZID="Europe/Zurich":20260526T121500
DTEND;TZID="Europe/Zurich":20260526T130000
DTSTAMP:20260421T102025
CREATED:20251217T122045Z
LAST-MODIFIED:20251217T122045Z
UID:12077-1779797700-1779800400@www.sro-ssro.ch
SUMMARY:Morbidité/Mortalité
DESCRIPTION:
URL:https://www.sro-ssro.ch/event/morbidite-mortalite-4/
END:VEVENT
BEGIN:VEVENT
DTSTART;TZID="Europe/Zurich":20260528T130000
DTEND;TZID="Europe/Zurich":20260528T173000
DTSTAMP:20260421T102025
CREATED:20260209T162020Z
LAST-MODIFIED:20260209T162020Z
UID:12171-1779973200-1779989400@www.sro-ssro.ch
SUMMARY:«Organerhaltende Therapie bei Tumorerkrankungen im Beckenbereich»
DESCRIPTION:
URL:https://www.sro-ssro.ch/event/organerhaltende-therapie-bei-tumorerkrankungen-im-beckenbereich/
END:VEVENT
BEGIN:VEVENT
DTSTART;TZID="Europe/Zurich":20260604T090000
DTEND;TZID="Europe/Zurich":20260606T130000
DTSTAMP:20260421T102025
CREATED:20260329T152246Z
LAST-MODIFIED:20260329T152246Z
UID:12240-1780563600-1780750800@www.sro-ssro.ch
SUMMARY:CHICAGO IN THE MOUNTAINS 2026
DESCRIPTION:
URL:https://www.sro-ssro.ch/event/chicago-in-the-mountains-2026/
END:VEVENT
BEGIN:VEVENT
DTSTART;TZID="Europe/Zurich":20260604T180000
DTEND;TZID="Europe/Zurich":20260604T200000
DTSTAMP:20260421T102025
CREATED:20260317T082314Z
LAST-MODIFIED:20260317T082314Z
UID:12222-1780596000-1780603200@www.sro-ssro.ch
SUMMARY:Battle of Onco-Minds Bern
DESCRIPTION:
URL:https://www.sro-ssro.ch/event/battle-of-onco-minds-bern/
END:VEVENT
BEGIN:VEVENT
DTSTART;TZID="Europe/Zurich":20260605T083000
DTEND;TZID="Europe/Zurich":20260605T161500
DTSTAMP:20260421T102025
CREATED:20260416T102028Z
LAST-MODIFIED:20260416T102028Z
UID:12256-1780648200-1780676100@www.sro-ssro.ch
SUMMARY:NextGen Senology
DESCRIPTION:
URL:https://www.sro-ssro.ch/event/nextgen-senology/
END:VEVENT
BEGIN:VEVENT
DTSTART;TZID="Europe/Zurich":20260611T170000
DTEND;TZID="Europe/Zurich":20260611T200000
DTSTAMP:20260421T102025
CREATED:20260329T142048Z
LAST-MODIFIED:20260329T142048Z
UID:12239-1781197200-1781208000@www.sro-ssro.ch
SUMMARY:Tumorboard Essentials aus Chicago 2026
DESCRIPTION:
URL:https://www.sro-ssro.ch/event/tumorboard-essentials-aus-chicago-2026/
END:VEVENT
BEGIN:VEVENT
DTSTART;TZID="Europe/Zurich":20260617T190000
DTEND;TZID="Europe/Zurich":20260619T170000
DTSTAMP:20260421T102025
CREATED:20260401T092043Z
LAST-MODIFIED:20260401T092043Z
UID:12242-1781722800-1781888400@www.sro-ssro.ch
SUMMARY:Swiss Cancer Institute Semi-Annual Meeting
DESCRIPTION:
URL:https://www.sro-ssro.ch/event/swiss-cancer-institute-semi-annual-meeting/
END:VEVENT
BEGIN:VEVENT
DTSTART;TZID="Europe/Zurich":20260618T180000
DTEND;TZID="Europe/Zurich":20260619T121500
DTSTAMP:20260421T102025
CREATED:20260401T072634Z
LAST-MODIFIED:20260401T072634Z
UID:12241-1781805600-1781871300@www.sro-ssro.ch
SUMMARY:Swiss Cancer Institute HJV Translational Meeting
DESCRIPTION:
URL:https://www.sro-ssro.ch/event/swiss-cancer-institute-hjv-translational-meeting/
END:VEVENT
BEGIN:VEVENT
DTSTART;TZID="Europe/Zurich":20261020T121500
DTEND;TZID="Europe/Zurich":20261020T130000
DTSTAMP:20260421T102025
CREATED:20251217T122045Z
LAST-MODIFIED:20251217T122045Z
UID:12078-1792498500-1792501200@www.sro-ssro.ch
SUMMARY:Morbidité/Mortalité
DESCRIPTION:
URL:https://www.sro-ssro.ch/event/morbidite-mortalite-5/
END:VEVENT
BEGIN:VEVENT
DTSTART;TZID="Europe/Zurich":20261105T090000
DTEND;TZID="Europe/Zurich":20261106T140000
DTSTAMP:20260421T102025
CREATED:20260417T102057Z
LAST-MODIFIED:20260417T102057Z
UID:12257-1793869200-1793973600@www.sro-ssro.ch
SUMMARY:Swiss Medical Network – Mayo Clinic Oncology Summit 2026
DESCRIPTION:
URL:https://www.sro-ssro.ch/event/swiss-medical-network-mayo-clinic-oncology-summit-2026/
END:VEVENT
BEGIN:VEVENT
DTSTART;TZID="Europe/Zurich":20261106T100000
DTEND;TZID="Europe/Zurich":20261121T160000
DTSTAMP:20260421T102025
CREATED:20260316T112045Z
LAST-MODIFIED:20260316T112045Z
UID:12218-1793959200-1795276800@www.sro-ssro.ch
SUMMARY:Certificate of Advanced Studies in Personalized Molecular Oncology - Module 1 - 4
DESCRIPTION:
URL:https://www.sro-ssro.ch/event/certificate-of-advanced-studies-in-personalized-molecular-oncology-module-1-4-5/
END:VEVENT
BEGIN:VEVENT
DTSTART;TZID="Europe/Zurich":20270115T103000
DTEND;TZID="Europe/Zurich":20270130T180000
DTSTAMP:20260421T102025
CREATED:20260316T112045Z
LAST-MODIFIED:20260316T112045Z
UID:12219-1800009000-1801332000@www.sro-ssro.ch
SUMMARY:Certificate of Advanced Studies in Personalized Molecular Oncology - Module 1 - 4
DESCRIPTION:
URL:https://www.sro-ssro.ch/event/certificate-of-advanced-studies-in-personalized-molecular-oncology-module-1-4-6/
END:VEVENT
BEGIN:VEVENT
DTSTART;TZID="Europe/Zurich":20270312T101500
DTEND;TZID="Europe/Zurich":20270327T150000
DTSTAMP:20260421T102025
CREATED:20260316T112046Z
LAST-MODIFIED:20260316T112046Z
UID:12220-1804846500-1806159600@www.sro-ssro.ch
SUMMARY:Certificate of Advanced Studies in Personalized Molecular Oncology - Module 1 - 4
DESCRIPTION:
URL:https://www.sro-ssro.ch/event/certificate-of-advanced-studies-in-personalized-molecular-oncology-module-1-4-7/
END:VEVENT
BEGIN:VEVENT
DTSTART;TZID="Europe/Zurich":20270507T103000
DTEND;TZID="Europe/Zurich":20270522T163000
DTSTAMP:20260421T102025
CREATED:20260316T112046Z
LAST-MODIFIED:20260316T112046Z
UID:12221-1809685800-1811003400@www.sro-ssro.ch
SUMMARY:Certificate of Advanced Studies in Personalized Molecular Oncology - Module 1 - 4
DESCRIPTION:
URL:https://www.sro-ssro.ch/event/certificate-of-advanced-studies-in-personalized-molecular-oncology-module-1-4-8/
END:VEVENT
END:VCALENDAR