BEGIN:VCALENDAR
VERSION:2.0
PRODID:-//SRO SSRO - ECPv4.9.4//NONSGML v1.0//EN
CALSCALE:GREGORIAN
METHOD:PUBLISH
X-WR-CALNAME:SRO SSRO
X-ORIGINAL-URL:https://www.sro-ssro.ch
X-WR-CALDESC:Events for SRO SSRO
BEGIN:VTIMEZONE
TZID:"Europe/Zurich"
BEGIN:DAYLIGHT
TZOFFSETFROM:+0100
TZOFFSETTO:+0200
TZNAME:CEST
DTSTART:20200329T010000
END:DAYLIGHT
BEGIN:STANDARD
TZOFFSETFROM:+0200
TZOFFSETTO:+0100
TZNAME:CET
DTSTART:20201025T010000
END:STANDARD
END:VTIMEZONE
BEGIN:VEVENT
DTSTART;TZID="Europe/Zurich":20200327T120000
DTEND;TZID="Europe/Zurich":20200328T150000
DTSTAMP:20260423T134443
CREATED:20200202T092131Z
LAST-MODIFIED:20200202T092131Z
UID:4964-1585310400-1585407600@www.sro-ssro.ch
SUMMARY:Sektionstagung Stereotaxie und Radiochirurgie der DGNC
DESCRIPTION:
URL:https://www.sro-ssro.ch/event/sektionstagung-stereotaxie-und-radiochirurgie-der-dgnc/
END:VEVENT
END:VCALENDAR