BEGIN:VCALENDAR
VERSION:2.0
PRODID:-//SRO SSRO - ECPv4.9.4//NONSGML v1.0//EN
CALSCALE:GREGORIAN
METHOD:PUBLISH
X-WR-CALNAME:SRO SSRO
X-ORIGINAL-URL:https://www.sro-ssro.ch
X-WR-CALDESC:Events for SRO SSRO
BEGIN:VTIMEZONE
TZID:"Europe/Zurich"
BEGIN:DAYLIGHT
TZOFFSETFROM:+0100
TZOFFSETTO:+0200
TZNAME:CEST
DTSTART:20200329T010000
END:DAYLIGHT
BEGIN:STANDARD
TZOFFSETFROM:+0200
TZOFFSETTO:+0100
TZNAME:CET
DTSTART:20201025T010000
END:STANDARD
END:VTIMEZONE
BEGIN:VEVENT
DTSTART;TZID="Europe/Zurich":20200326T170000
DTEND;TZID="Europe/Zurich":20200326T190000
DTSTAMP:20260423T122112
CREATED:20200226T163256Z
LAST-MODIFIED:20200226T163256Z
UID:5093-1585242000-1585249200@www.sro-ssro.ch
SUMMARY:Ruolo della radioterapia nel trattamento delle affezioni benigne
DESCRIPTION:
URL:https://www.sro-ssro.ch/event/ruolo-della-radioterapia-nel-trattamento-delle-affezioni-benigne/
END:VEVENT
END:VCALENDAR