BEGIN:VCALENDAR
VERSION:2.0
PRODID:-//SRO SSRO - ECPv4.9.4//NONSGML v1.0//EN
CALSCALE:GREGORIAN
METHOD:PUBLISH
X-WR-CALNAME:SRO SSRO
X-ORIGINAL-URL:https://www.sro-ssro.ch
X-WR-CALDESC:Events for SRO SSRO
BEGIN:VTIMEZONE
TZID:"Europe/Zurich"
BEGIN:DAYLIGHT
TZOFFSETFROM:+0100
TZOFFSETTO:+0200
TZNAME:CEST
DTSTART:20180325T010000
END:DAYLIGHT
BEGIN:STANDARD
TZOFFSETFROM:+0200
TZOFFSETTO:+0100
TZNAME:CET
DTSTART:20181028T010000
END:STANDARD
END:VTIMEZONE
BEGIN:VEVENT
DTSTART;TZID="Europe/Zurich":20180305T170000
DTEND;TZID="Europe/Zurich":20180305T180000
DTSTAMP:20260423T032600
CREATED:20180228T061754Z
LAST-MODIFIED:20180228T061754Z
UID:3080-1520269200-1520272800@www.sro-ssro.ch
SUMMARY:Radio-Onkologie und andere Systeme der Gesellschaft im Wandel seit 1970
DESCRIPTION:
URL:https://www.sro-ssro.ch/event/radio-onkologie-und-andere-systeme-der-gesellschaft-im-wandel-seit-1970/
END:VEVENT
END:VCALENDAR