BEGIN:VCALENDAR
VERSION:2.0
PRODID:-//SRO SSRO - ECPv4.9.4//NONSGML v1.0//EN
CALSCALE:GREGORIAN
METHOD:PUBLISH
X-WR-CALNAME:SRO SSRO
X-ORIGINAL-URL:https://www.sro-ssro.ch
X-WR-CALDESC:Events for SRO SSRO
BEGIN:VTIMEZONE
TZID:"Europe/Zurich"
BEGIN:DAYLIGHT
TZOFFSETFROM:+0100
TZOFFSETTO:+0200
TZNAME:CEST
DTSTART:20210328T010000
END:DAYLIGHT
BEGIN:STANDARD
TZOFFSETFROM:+0200
TZOFFSETTO:+0100
TZNAME:CET
DTSTART:20211031T010000
END:STANDARD
END:VTIMEZONE
BEGIN:VEVENT
DTSTART;TZID="Europe/Zurich":20210908T170000
DTEND;TZID="Europe/Zurich":20210908T183000
DTSTAMP:20260422T190047
CREATED:20210510T142349Z
LAST-MODIFIED:20210510T142349Z
UID:6238-1631120400-1631125800@www.sro-ssro.ch
SUMMARY:Psychosoziale Belastungen und spezifische Entwicklungsaspekte bei jungen Erwachsenen mit Krebs
DESCRIPTION:
URL:https://www.sro-ssro.ch/event/psychosoziale-belastungen-und-spezifische-entwicklungsaspekte-bei-jungen-erwachsenen-mit-krebs/
END:VEVENT
END:VCALENDAR