BEGIN:VCALENDAR
VERSION:2.0
PRODID:-//SRO SSRO - ECPv4.9.4//NONSGML v1.0//EN
CALSCALE:GREGORIAN
METHOD:PUBLISH
X-WR-CALNAME:SRO SSRO
X-ORIGINAL-URL:https://www.sro-ssro.ch
X-WR-CALDESC:Events for SRO SSRO
BEGIN:VTIMEZONE
TZID:"Europe/Zurich"
BEGIN:DAYLIGHT
TZOFFSETFROM:+0100
TZOFFSETTO:+0200
TZNAME:CEST
DTSTART:20200329T010000
END:DAYLIGHT
BEGIN:STANDARD
TZOFFSETFROM:+0200
TZOFFSETTO:+0100
TZNAME:CET
DTSTART:20201025T010000
END:STANDARD
END:VTIMEZONE
BEGIN:VEVENT
DTSTART;TZID="Europe/Zurich":20200206T150000
DTEND;TZID="Europe/Zurich":20200206T183000
DTSTAMP:20260422T123604
CREATED:20191223T152129Z
LAST-MODIFIED:20191223T152129Z
UID:4895-1581001200-1581013800@www.sro-ssro.ch
SUMMARY:Oncologia medica: da ultima spiaggia a partner per la guarigione
DESCRIPTION:
URL:https://www.sro-ssro.ch/event/oncologia-medica-da-ultima-spiaggia-a-partner-per-la-guarigione/
END:VEVENT
END:VCALENDAR