BEGIN:VCALENDAR
VERSION:2.0
PRODID:-//SRO SSRO - ECPv4.9.4//NONSGML v1.0//EN
CALSCALE:GREGORIAN
METHOD:PUBLISH
X-WR-CALNAME:SRO SSRO
X-ORIGINAL-URL:https://www.sro-ssro.ch
X-WR-CALDESC:Events for SRO SSRO
BEGIN:VTIMEZONE
TZID:"Europe/Zurich"
BEGIN:DAYLIGHT
TZOFFSETFROM:+0100
TZOFFSETTO:+0200
TZNAME:CEST
DTSTART:20200329T010000
END:DAYLIGHT
BEGIN:STANDARD
TZOFFSETFROM:+0200
TZOFFSETTO:+0100
TZNAME:CET
DTSTART:20201025T010000
END:STANDARD
END:VTIMEZONE
BEGIN:VEVENT
DTSTART;TZID="Europe/Zurich":20200108T083000
DTEND;TZID="Europe/Zurich":20200108T113000
DTSTAMP:20260421T171746
CREATED:20191213T113427Z
LAST-MODIFIED:20191213T113427Z
UID:4847-1578472200-1578483000@www.sro-ssro.ch
SUMMARY:Incontro clinico patologico/ Oncolunch / Revisione Blau-rotbuc 2020
DESCRIPTION:
URL:https://www.sro-ssro.ch/event/incontro-clinico-patologico-oncolunch-revisione-blau-rotbuc-2020/
END:VEVENT
END:VCALENDAR