BEGIN:VCALENDAR
VERSION:2.0
PRODID:-//SRO SSRO - ECPv4.9.4//NONSGML v1.0//EN
CALSCALE:GREGORIAN
METHOD:PUBLISH
X-WR-CALNAME:SRO SSRO
X-ORIGINAL-URL:https://www.sro-ssro.ch
X-WR-CALDESC:Events for SRO SSRO
BEGIN:VTIMEZONE
TZID:"Europe/Zurich"
BEGIN:DAYLIGHT
TZOFFSETFROM:+0100
TZOFFSETTO:+0200
TZNAME:CEST
DTSTART:20200329T010000
END:DAYLIGHT
BEGIN:STANDARD
TZOFFSETFROM:+0200
TZOFFSETTO:+0100
TZNAME:CET
DTSTART:20201025T010000
END:STANDARD
END:VTIMEZONE
BEGIN:VEVENT
DTSTART;TZID="Europe/Zurich":20200305T143000
DTEND;TZID="Europe/Zurich":20200305T194500
DTSTAMP:20260423T003034
CREATED:20200219T122431Z
LAST-MODIFIED:20200219T122431Z
UID:5036-1583418600-1583437500@www.sro-ssro.ch
SUMMARY:I Linfomi dal punto di vista del dermatologo\, oncologo\, radio oncologo e patologo: una sfida multidisciplinare
DESCRIPTION:
URL:https://www.sro-ssro.ch/event/i-linfomi-dal-punto-di-vista-del-dermatologo-oncologo-radio-oncologo-e-patologo-una-sfida-multidisciplinare/
END:VEVENT
END:VCALENDAR