BEGIN:VCALENDAR
VERSION:2.0
PRODID:-//SRO SSRO - ECPv4.9.4//NONSGML v1.0//EN
CALSCALE:GREGORIAN
METHOD:PUBLISH
X-WR-CALNAME:SRO SSRO
X-ORIGINAL-URL:https://www.sro-ssro.ch
X-WR-CALDESC:Events for SRO SSRO
BEGIN:VTIMEZONE
TZID:"Europe/Zurich"
BEGIN:DAYLIGHT
TZOFFSETFROM:+0100
TZOFFSETTO:+0200
TZNAME:CEST
DTSTART:20200329T010000
END:DAYLIGHT
BEGIN:STANDARD
TZOFFSETFROM:+0200
TZOFFSETTO:+0100
TZNAME:CET
DTSTART:20201025T010000
END:STANDARD
END:VTIMEZONE
BEGIN:VEVENT
DTSTART;TZID="Europe/Zurich":20200124T094500
DTEND;TZID="Europe/Zurich":20200124T163000
DTSTAMP:20260421T222827
CREATED:20191031T142149Z
LAST-MODIFIED:20191031T142149Z
UID:4434-1579859100-1579883400@www.sro-ssro.ch
SUMMARY:Hot Topics in Uro-Oncology
DESCRIPTION:
URL:https://www.sro-ssro.ch/event/hot-topics-in-uro-oncology-2/
END:VEVENT
END:VCALENDAR