BEGIN:VCALENDAR
VERSION:2.0
PRODID:-//SRO SSRO - ECPv4.9.4//NONSGML v1.0//EN
CALSCALE:GREGORIAN
METHOD:PUBLISH
X-WR-CALNAME:SRO SSRO
X-ORIGINAL-URL:https://www.sro-ssro.ch
X-WR-CALDESC:Events for SRO SSRO
BEGIN:VTIMEZONE
TZID:"Europe/Zurich"
BEGIN:DAYLIGHT
TZOFFSETFROM:+0100
TZOFFSETTO:+0200
TZNAME:CEST
DTSTART:20210328T010000
END:DAYLIGHT
BEGIN:STANDARD
TZOFFSETFROM:+0200
TZOFFSETTO:+0100
TZNAME:CET
DTSTART:20211031T010000
END:STANDARD
END:VTIMEZONE
BEGIN:VEVENT
DTSTART;TZID="Europe/Zurich":20211020T163000
DTEND;TZID="Europe/Zurich":20211020T180000
DTSTAMP:20260419T155032
CREATED:20210429T122340Z
LAST-MODIFIED:20210429T122340Z
UID:6217-1634747400-1634752800@www.sro-ssro.ch
SUMMARY:Herzklappen Problematik nach onkologischen Therapien
DESCRIPTION:
URL:https://www.sro-ssro.ch/event/herzklappen-problematik-nach-onkologischen-therapien/
END:VEVENT
END:VCALENDAR