BEGIN:VCALENDAR
VERSION:2.0
PRODID:-//SRO SSRO - ECPv4.9.4//NONSGML v1.0//EN
CALSCALE:GREGORIAN
METHOD:PUBLISH
X-WR-CALNAME:SRO SSRO
X-ORIGINAL-URL:https://www.sro-ssro.ch
X-WR-CALDESC:Events for SRO SSRO
BEGIN:VTIMEZONE
TZID:"Europe/Zurich"
BEGIN:DAYLIGHT
TZOFFSETFROM:+0100
TZOFFSETTO:+0200
TZNAME:CEST
DTSTART:20210328T010000
END:DAYLIGHT
BEGIN:STANDARD
TZOFFSETFROM:+0200
TZOFFSETTO:+0100
TZNAME:CET
DTSTART:20211031T010000
END:STANDARD
END:VTIMEZONE
BEGIN:VEVENT
DTSTART;TZID="Europe/Zurich":20210928T180000
DTEND;TZID="Europe/Zurich":20210928T190000
DTSTAMP:20260420T105911
CREATED:20210909T082032Z
LAST-MODIFIED:20210909T082032Z
UID:6521-1632852000-1632855600@www.sro-ssro.ch
SUMMARY:GITZ Online Fortbildung «Oragnoid Testung / Organoid-Core – wo stehen wir in Bezug auf GI Tumore?»
DESCRIPTION:
URL:https://www.sro-ssro.ch/event/gitz-online-fortbildung-oragnoid-testung-organoid-core-wo-stehen-wir-in-bezug-auf-gi-tumore/
END:VEVENT
END:VCALENDAR