BEGIN:VCALENDAR
VERSION:2.0
PRODID:-//SRO SSRO - ECPv4.9.4//NONSGML v1.0//EN
CALSCALE:GREGORIAN
METHOD:PUBLISH
X-WR-CALNAME:SRO SSRO
X-ORIGINAL-URL:https://www.sro-ssro.ch
X-WR-CALDESC:Events for SRO SSRO
BEGIN:VTIMEZONE
TZID:"Europe/Zurich"
BEGIN:DAYLIGHT
TZOFFSETFROM:+0100
TZOFFSETTO:+0200
TZNAME:CEST
DTSTART:20180325T010000
END:DAYLIGHT
BEGIN:STANDARD
TZOFFSETFROM:+0200
TZOFFSETTO:+0100
TZNAME:CET
DTSTART:20181028T010000
END:STANDARD
END:VTIMEZONE
BEGIN:VEVENT
DTSTART;TZID="Europe/Zurich":20180830T181500
DTEND;TZID="Europe/Zurich":20180830T191500
DTSTAMP:20260419T155032
CREATED:20180731T060807Z
LAST-MODIFIED:20180731T060807Z
UID:3314-1535652900-1535656500@www.sro-ssro.ch
SUMMARY:Eröffnungs Symposium: «Neueste Entwicklungen in der Onkologie» mit 4 Kurzvorträgen
DESCRIPTION:
URL:https://www.sro-ssro.ch/event/eroffnungs-symposium-neueste-entwicklungen-in-der-onkologie-mit-4-kurzvortragen/
END:VEVENT
END:VCALENDAR