BEGIN:VCALENDAR
VERSION:2.0
PRODID:-//SRO SSRO - ECPv4.9.4//NONSGML v1.0//EN
CALSCALE:GREGORIAN
METHOD:PUBLISH
X-WR-CALNAME:SRO SSRO
X-ORIGINAL-URL:https://www.sro-ssro.ch
X-WR-CALDESC:Events for SRO SSRO
BEGIN:VTIMEZONE
TZID:"Europe/Zurich"
BEGIN:DAYLIGHT
TZOFFSETFROM:+0100
TZOFFSETTO:+0200
TZNAME:CEST
DTSTART:20180325T010000
END:DAYLIGHT
BEGIN:STANDARD
TZOFFSETFROM:+0200
TZOFFSETTO:+0100
TZNAME:CET
DTSTART:20181028T010000
END:STANDARD
END:VTIMEZONE
BEGIN:VEVENT
DTSTART;TZID="Europe/Zurich":20180830T090000
DTEND;TZID="Europe/Zurich":20180831T170000
DTSTAMP:20260419T185329
CREATED:20180628T064527Z
LAST-MODIFIED:20180628T064527Z
UID:3291-1535619600-1535734800@www.sro-ssro.ch
SUMMARY:Corso interattivo sulla gestione degli effetti collaterali dei nuovi farmaci
DESCRIPTION:
URL:https://www.sro-ssro.ch/event/corso-interattivo-sulla-gestione-degli-effetti-collaterali-dei-nuovi-farmaci/
END:VEVENT
END:VCALENDAR