BEGIN:VCALENDAR
VERSION:2.0
PRODID:-//SRO SSRO - ECPv4.9.4//NONSGML v1.0//EN
CALSCALE:GREGORIAN
METHOD:PUBLISH
X-WR-CALNAME:SRO SSRO
X-ORIGINAL-URL:https://www.sro-ssro.ch
X-WR-CALDESC:Events for SRO SSRO
BEGIN:VTIMEZONE
TZID:"Europe/Zurich"
BEGIN:DAYLIGHT
TZOFFSETFROM:+0100
TZOFFSETTO:+0200
TZNAME:CEST
DTSTART:20210328T010000
END:DAYLIGHT
BEGIN:STANDARD
TZOFFSETFROM:+0200
TZOFFSETTO:+0100
TZNAME:CET
DTSTART:20211031T010000
END:STANDARD
END:VTIMEZONE
BEGIN:VEVENT
DTSTART;TZID="Europe/Zurich":20211007T140000
DTEND;TZID="Europe/Zurich":20211007T173000
DTSTAMP:20260420T013057
CREATED:20210923T132138Z
LAST-MODIFIED:20210923T132138Z
UID:6628-1633615200-1633627800@www.sro-ssro.ch
SUMMARY:Colloque du DFME Octobre Rose 7.10.21
DESCRIPTION:
URL:https://www.sro-ssro.ch/event/colloque-du-dfme-octobre-rose-7-10-21/
END:VEVENT
END:VCALENDAR