BEGIN:VCALENDAR
VERSION:2.0
PRODID:-//SRO SSRO - ECPv4.9.4//NONSGML v1.0//EN
CALSCALE:GREGORIAN
METHOD:PUBLISH
X-WR-CALNAME:SRO SSRO
X-ORIGINAL-URL:https://www.sro-ssro.ch
X-WR-CALDESC:Events for SRO SSRO
BEGIN:VTIMEZONE
TZID:"Europe/Zurich"
BEGIN:DAYLIGHT
TZOFFSETFROM:+0100
TZOFFSETTO:+0200
TZNAME:CEST
DTSTART:20200329T010000
END:DAYLIGHT
BEGIN:STANDARD
TZOFFSETFROM:+0200
TZOFFSETTO:+0100
TZNAME:CET
DTSTART:20201025T010000
END:STANDARD
END:VTIMEZONE
BEGIN:VEVENT
DTSTART;TZID="Europe/Zurich":20200124T103000
DTEND;TZID="Europe/Zurich":20200208T160000
DTSTAMP:20260422T001437
CREATED:20190612T061108Z
LAST-MODIFIED:20190612T061108Z
UID:4097-1579861800-1581177600@www.sro-ssro.ch
SUMMARY:Certificate of Advanced Studies in Personalized Molecular Oncology - Molecular pathology (module 2)
DESCRIPTION:
URL:https://www.sro-ssro.ch/event/certificate-of-advanced-studies-in-personalized-molecular-oncology-molecular-pathology-module-2/
END:VEVENT
END:VCALENDAR