BEGIN:VCALENDAR
VERSION:2.0
PRODID:-//SRO SSRO - ECPv4.9.4//NONSGML v1.0//EN
CALSCALE:GREGORIAN
METHOD:PUBLISH
X-WR-CALNAME:SRO SSRO
X-ORIGINAL-URL:https://www.sro-ssro.ch
X-WR-CALDESC:Events for SRO SSRO
BEGIN:VTIMEZONE
TZID:"Europe/Zurich"
BEGIN:DAYLIGHT
TZOFFSETFROM:+0100
TZOFFSETTO:+0200
TZNAME:CEST
DTSTART:20210328T010000
END:DAYLIGHT
BEGIN:STANDARD
TZOFFSETFROM:+0200
TZOFFSETTO:+0100
TZNAME:CET
DTSTART:20211031T010000
END:STANDARD
END:VTIMEZONE
BEGIN:VEVENT
DTSTART;TZID="Europe/Zurich":20211011T080000
DTEND;TZID="Europe/Zurich":20211011T181500
DTSTAMP:20260419T234455
CREATED:20210906T132049Z
LAST-MODIFIED:20210906T132049Z
UID:6500-1633939200-1633976100@www.sro-ssro.ch
SUMMARY:« Cancer du sein 2001-2021 : CHEMIN PARCOURU\, FUTUR RÊVÉ »
DESCRIPTION:
URL:https://www.sro-ssro.ch/event/cancer-du-sein-2001-2021-chemin-parcouru-futur-reve/
END:VEVENT
END:VCALENDAR