BEGIN:VCALENDAR
VERSION:2.0
PRODID:-//SRO SSRO - ECPv4.9.4//NONSGML v1.0//EN
CALSCALE:GREGORIAN
METHOD:PUBLISH
X-WR-CALNAME:SRO SSRO
X-ORIGINAL-URL:https://www.sro-ssro.ch
X-WR-CALDESC:Events for SRO SSRO
BEGIN:VTIMEZONE
TZID:"Europe/Zurich"
BEGIN:DAYLIGHT
TZOFFSETFROM:+0100
TZOFFSETTO:+0200
TZNAME:CEST
DTSTART:20210328T010000
END:DAYLIGHT
BEGIN:STANDARD
TZOFFSETFROM:+0200
TZOFFSETTO:+0100
TZNAME:CET
DTSTART:20211031T010000
END:STANDARD
END:VTIMEZONE
BEGIN:VEVENT
DTSTART;TZID="Europe/Zurich":20210910T080000
DTEND;TZID="Europe/Zurich":20210910T180000
DTSTAMP:20260422T132745
CREATED:20210608T102028Z
LAST-MODIFIED:20210907T091015Z
UID:6286-1631260800-1631296800@www.sro-ssro.ch
SUMMARY:ANNUAL CONGRESS OF THE SWISS SOCIETY OF SENOLOGY – SSS 2021
DESCRIPTION:
URL:https://www.sro-ssro.ch/event/annual-congress-of-the-swiss-society-of-senology-sss-2021/
END:VEVENT
END:VCALENDAR