BEGIN:VCALENDAR
VERSION:2.0
PRODID:-//SRO SSRO - ECPv4.9.4//NONSGML v1.0//EN
CALSCALE:GREGORIAN
METHOD:PUBLISH
X-WR-CALNAME:SRO SSRO
X-ORIGINAL-URL:https://www.sro-ssro.ch
X-WR-CALDESC:Events for SRO SSRO
BEGIN:VTIMEZONE
TZID:"Europe/Zurich"
BEGIN:DAYLIGHT
TZOFFSETFROM:+0100
TZOFFSETTO:+0200
TZNAME:CEST
DTSTART:20200329T010000
END:DAYLIGHT
BEGIN:STANDARD
TZOFFSETFROM:+0200
TZOFFSETTO:+0100
TZNAME:CET
DTSTART:20201025T010000
END:STANDARD
END:VTIMEZONE
BEGIN:VEVENT
DTSTART;TZID="Europe/Zurich":20200206T080000
DTEND;TZID="Europe/Zurich":20200207T170000
DTSTAMP:20260422T110149
CREATED:20191025T092054Z
LAST-MODIFIED:20191025T092054Z
UID:4418-1580976000-1581094800@www.sro-ssro.ch
SUMMARY:3rd World Pancreas Forum
DESCRIPTION:
URL:https://www.sro-ssro.ch/event/3rd-world-pancreas-forum/
END:VEVENT
END:VCALENDAR