BEGIN:VCALENDAR
VERSION:2.0
PRODID:-//SRO SSRO - ECPv4.9.4//NONSGML v1.0//EN
CALSCALE:GREGORIAN
METHOD:PUBLISH
X-WR-CALNAME:SRO SSRO
X-ORIGINAL-URL:https://www.sro-ssro.ch
X-WR-CALDESC:Events for SRO SSRO
BEGIN:VTIMEZONE
TZID:"Europe/Zurich"
BEGIN:DAYLIGHT
TZOFFSETFROM:+0100
TZOFFSETTO:+0200
TZNAME:CEST
DTSTART:20210328T010000
END:DAYLIGHT
BEGIN:STANDARD
TZOFFSETFROM:+0200
TZOFFSETTO:+0100
TZNAME:CET
DTSTART:20211031T010000
END:STANDARD
END:VTIMEZONE
BEGIN:VEVENT
DTSTART;TZID="Europe/Zurich":20210902T100000
DTEND;TZID="Europe/Zurich":20210903T183000
DTSTAMP:20260423T060915
CREATED:20210712T132029Z
LAST-MODIFIED:20210712T132029Z
UID:6358-1630576800-1630693800@www.sro-ssro.ch
SUMMARY:25. SASRO Annual Meeting
DESCRIPTION:
URL:https://www.sro-ssro.ch/event/25-sasro-annual-meeting/
END:VEVENT
END:VCALENDAR